BEGIN:VCALENDAR
VERSION:2.0
PRODID:-//Warren Heritage Society - ECPv6.15.20//NONSGML v1.0//EN
CALSCALE:GREGORIAN
METHOD:PUBLISH
X-WR-CALNAME:Warren Heritage Society
X-ORIGINAL-URL:https://warrenheritagesociety.org
X-WR-CALDESC:Events for Warren Heritage Society
REFRESH-INTERVAL;VALUE=DURATION:PT1H
X-Robots-Tag:noindex
X-PUBLISHED-TTL:PT1H
BEGIN:VTIMEZONE
TZID:America/New_York
BEGIN:DAYLIGHT
TZOFFSETFROM:-0500
TZOFFSETTO:-0400
TZNAME:EDT
DTSTART:20230312T070000
END:DAYLIGHT
BEGIN:STANDARD
TZOFFSETFROM:-0400
TZOFFSETTO:-0500
TZNAME:EST
DTSTART:20231105T060000
END:STANDARD
BEGIN:DAYLIGHT
TZOFFSETFROM:-0500
TZOFFSETTO:-0400
TZNAME:EDT
DTSTART:20240310T070000
END:DAYLIGHT
BEGIN:STANDARD
TZOFFSETFROM:-0400
TZOFFSETTO:-0500
TZNAME:EST
DTSTART:20241103T060000
END:STANDARD
BEGIN:DAYLIGHT
TZOFFSETFROM:-0500
TZOFFSETTO:-0400
TZNAME:EDT
DTSTART:20250309T070000
END:DAYLIGHT
BEGIN:STANDARD
TZOFFSETFROM:-0400
TZOFFSETTO:-0500
TZNAME:EST
DTSTART:20251102T060000
END:STANDARD
BEGIN:DAYLIGHT
TZOFFSETFROM:-0500
TZOFFSETTO:-0400
TZNAME:EDT
DTSTART:20260308T070000
END:DAYLIGHT
BEGIN:STANDARD
TZOFFSETFROM:-0400
TZOFFSETTO:-0500
TZNAME:EST
DTSTART:20261101T060000
END:STANDARD
END:VTIMEZONE
BEGIN:VEVENT
DTSTART;TZID=America/New_York:20250329T090000
DTEND;TZID=America/New_York:20250329T150000
DTSTAMP:20260420T094319
CREATED:20241218T193432Z
LAST-MODIFIED:20241218T193517Z
UID:2726-1743238800-1743260400@warrenheritagesociety.org
SUMMARY:Canoe Capital Paddle Palooza
DESCRIPTION:Join us on Saturday\, March 29\, 2025\, in the Canoe Capital of Virginia for an exhilarating day on the water! With its friendly outfitters\, crystal-clear waters\, and abundant wildlife\, Front Royal is the perfect place to embrace your sense of Adventure. \nWhether you’re a beginner or a seasoned paddler\, there’s a race for everyone! Test your endurance in the 750m out-and-back sprint\, where flat water makes it ideal for newcomers and anyone looking to dip their paddle into water sports for the first time. Feel the energy from the cheering crowds lining the riverbank\, giving you that extra boost to cross the finish line! \nFor those craving a bigger challenge\, tackle the long-distance 7-mile race along one of the most stunning stretches of the South Fork of the Shenandoah River. Surrounded by breathtaking views and fast-flowing water\, this race is an adventure you won’t want to miss. Keep your paddle moving as you navigate this peaceful yet powerful section of the river – no time to fish here! \nWant to join the fun crowd? Take on our Tube Challenge! It’s an exciting mix of competition and fun that’s sure to get your adrenaline pumping. \nJoin us for a day full of excitement\, community\, and fun! Enjoy local vendors\, live entertainment\, and plenty of activities on and off the water. Not a paddler? No problem! Come down to cheer on the competitors and experience the vibrant atmosphere this event brings to our town. Don’t miss out on this unforgettable community celebration! \nGet ready for a day of heart-pumping fun\, friendly competition\, and natural beauty. Register now and see why Front Royal is the ultimate destination for canoe lovers!
URL:https://warrenheritagesociety.org/event/canoe-capital-paddle-palooza/
LOCATION:Eastham Park\, 860 Luray Ave\, Front Royal\, VA\, 22630
ATTACH;FMTTYPE=image/jpeg:https://warrenheritagesociety.org/wp-content/uploads/2024/12/Logo.jpg
END:VEVENT
BEGIN:VEVENT
DTSTART;TZID=America/New_York:20250313T180000
DTEND;TZID=America/New_York:20250313T200000
DTSTAMP:20260420T094319
CREATED:20241227T152417Z
LAST-MODIFIED:20250128T141219Z
UID:2761-1741888800-1741896000@warrenheritagesociety.org
SUMMARY:Handmade: Nesting Boxes
DESCRIPTION:Handmade: An Artisan Workshop by the Warren Heritage Society\nThe Art of Making & the Science Behind Bird Nesting Boxes\n\nJoin the Warren Heritage Society and Virginia Working Landscape’s Justin Proctor on March 13 for a Handmade Workshop on Nesting Boxes. This program will provide attendees with locally sourced materials to construct a nesting box for native birds\, specifically Tree Swallows and Eastern Bluebirds. Justin will also be providing useful information and advice on caring for your nesting box\, and how we can help protect our community’s native bird population.\n\nSpace is limited. Pre-Registration is required.\n\n$15 for WHS Members$20 for Non-Members
URL:https://warrenheritagesociety.org/event/handmade-nesting-boxes/
LOCATION:The Ivy Lodge\, 101 Chester Street\, Front Royal\, VA\, 22630
ATTACH;FMTTYPE=image/jpeg:https://warrenheritagesociety.org/wp-content/uploads/2024/12/Handmade-Flyer-Nesting-Box-Tile.jpg
END:VEVENT
BEGIN:VEVENT
DTSTART;TZID=America/New_York:20250226T180000
DTEND;TZID=America/New_York:20250226T200000
DTSTAMP:20260420T094319
CREATED:20241220T201149Z
LAST-MODIFIED:20250128T193210Z
UID:2753-1740592800-1740600000@warrenheritagesociety.org
SUMMARY:Historical Melody
DESCRIPTION:Join the Warren Heritage Society for historical music experience Wednesday nights this winter. Beginning of Early 2025\, the Ivy Lodge will be transformed into a space for music that will take listeners to a period in time for various genres of music. The Ivy Lodge is the perfect setting for these acoustic and intimate music sessions\, as it was historically used for acquiring knowledge and social gatherings since it was constructed in the 1800’s. The music is presented by On Cue Sports Bar & Grill\, with genres ranging from 50’s country\, hip hop and r&b\, 20’s jazz\, and classical holiday music. Additionally\, guests can visit On Cue before or after the show to receive discounts. This new experience will allow guests to feel connected to the music and see local artists in a unique setting within the laid-back setting. \nSign up for our email list or follow us on Facebook for updates. \nPurchase tickets online early for $5 – the price increases to $10 one week before the show and at the door. \nRESERVE YOUR SPOT TODAY! \nCash Bar available with complimentary snacks\nGuests are encouraged to bring in carry out\, or visit On Cue before/after for discounts\nGuests are encouraged to bring a blanket as seating is on the floor\, first come\, first served\nIf you have an accessibility need for a chair\, please contact us in advance so we can accommodate your request \n02/26/2025 – Hip Hop/R&B
URL:https://warrenheritagesociety.org/event/historical-melody-8/
LOCATION:The Ivy Lodge\, 101 Chester Street\, Front Royal\, VA\, 22630
ATTACH;FMTTYPE=image/jpeg:https://warrenheritagesociety.org/wp-content/uploads/2024/11/Historical-Melody-Header.jpg
END:VEVENT
BEGIN:VEVENT
DTSTART;TZID=America/New_York:20250219T180000
DTEND;TZID=America/New_York:20250219T200000
DTSTAMP:20260420T094319
CREATED:20241220T201055Z
LAST-MODIFIED:20250128T193155Z
UID:2751-1739988000-1739995200@warrenheritagesociety.org
SUMMARY:Historical Melody
DESCRIPTION:Join the Warren Heritage Society for historical music experience Wednesday nights this winter. Beginning of Early 2025\, the Ivy Lodge will be transformed into a space for music that will take listeners to a period in time for various genres of music. The Ivy Lodge is the perfect setting for these acoustic and intimate music sessions\, as it was historically used for acquiring knowledge and social gatherings since it was constructed in the 1800’s. The music is presented by On Cue Sports Bar & Grill\, with genres ranging from 50’s country\, hip hop and r&b\, 20’s jazz\, and classical holiday music. Additionally\, guests can visit On Cue before or after the show to receive discounts. This new experience will allow guests to feel connected to the music and see local artists in a unique setting within the laid-back setting. \nSign up for our email list or follow us on Facebook for updates. \nPurchase tickets online early for $5 – the price increases to $10 one week before the show and at the door. \nRESERVE YOUR SPOT TODAY! \nCash Bar available with complimentary snacks\nGuests are encouraged to bring in carry out\, or visit On Cue before/after for discounts\nGuests are encouraged to bring a blanket as seating is on the floor\, first come\, first served\nIf you have an accessibility need for a chair\, please contact us in advance so we can accommodate your request \n02/19/2025 – 1920’s & 30’s Jazz\n02/26/2025 – Hip Hop/R&B
URL:https://warrenheritagesociety.org/event/historical-melody-7/
LOCATION:The Ivy Lodge\, 101 Chester Street\, Front Royal\, VA\, 22630
ATTACH;FMTTYPE=image/jpeg:https://warrenheritagesociety.org/wp-content/uploads/2024/11/Historical-Melody-Header.jpg
END:VEVENT
BEGIN:VEVENT
DTSTART;TZID=America/New_York:20250212T180000
DTEND;TZID=America/New_York:20250212T200000
DTSTAMP:20260420T094319
CREATED:20241220T200951Z
LAST-MODIFIED:20250128T193133Z
UID:2749-1739383200-1739390400@warrenheritagesociety.org
SUMMARY:Historical Melody
DESCRIPTION:Join the Warren Heritage Society for historical music experience Wednesday nights this winter. Beginning of Early 2025\, the Ivy Lodge will be transformed into a space for music that will take listeners to a period in time for various genres of music. The Ivy Lodge is the perfect setting for these acoustic and intimate music sessions\, as it was historically used for acquiring knowledge and social gatherings since it was constructed in the 1800’s. The music is presented by On Cue Sports Bar & Grill\, with genres ranging from 50’s country\, hip hop and r&b\, 20’s jazz\, and classical holiday music. Additionally\, guests can visit On Cue before or after the show to receive discounts. This new experience will allow guests to feel connected to the music and see local artists in a unique setting within the laid-back setting. \nSign up for our email list or follow us on Facebook for updates. \nPurchase tickets online early for $5 – the price increases to $10 one week before the show and at the door. \nRESERVE YOUR SPOT TODAY! \nCash Bar available with complimentary snacks\nGuests are encouraged to bring in carry out\, or visit On Cue before/after for discounts\nGuests are encouraged to bring a blanket as seating is on the floor\, first come\, first served\nIf you have an accessibility need for a chair\, please contact us in advance so we can accommodate your request \n02/12/2025 – Classical\n02/19/2025 – 1920’s & 30’s Jazz\n02/26/2025 – Hip Hop/R&B
URL:https://warrenheritagesociety.org/event/historical-melody-6/
LOCATION:The Ivy Lodge\, 101 Chester Street\, Front Royal\, VA\, 22630
ATTACH;FMTTYPE=image/jpeg:https://warrenheritagesociety.org/wp-content/uploads/2024/11/Historical-Melody-Header.jpg
END:VEVENT
BEGIN:VEVENT
DTSTART;TZID=America/New_York:20250208T120000
DTEND;TZID=America/New_York:20250208T133000
DTSTAMP:20260420T094319
CREATED:20250130T210752Z
LAST-MODIFIED:20250130T210752Z
UID:2799-1739016000-1739021400@warrenheritagesociety.org
SUMMARY:WHS Membership Social
DESCRIPTION:Join us for our next membership social on Saturday\, February 8 at 12:00 PM. Seating is limited and reservations are required for the complimentary brunch buffet at One Cue Sports Bar & Grill. \nPlease RSVP to office@warrenheritagesociety.org by 12:00 PM\, February 7\, 2025.
URL:https://warrenheritagesociety.org/event/whs-membership-social/
LOCATION:On Cue Sports Bar and Grill\, 206 E. Main Street\, Front Royal\, VA\, 22630\, United States
END:VEVENT
BEGIN:VEVENT
DTSTART;TZID=America/New_York:20250205T180000
DTEND;TZID=America/New_York:20250205T200000
DTSTAMP:20260420T094319
CREATED:20241220T200900Z
LAST-MODIFIED:20250128T193111Z
UID:2747-1738778400-1738785600@warrenheritagesociety.org
SUMMARY:Historical Melody
DESCRIPTION:Join the Warren Heritage Society for historical music experience Wednesday nights this winter. Beginning of Early 2025\, the Ivy Lodge will be transformed into a space for music that will take listeners to a period in time for various genres of music. The Ivy Lodge is the perfect setting for these acoustic and intimate music sessions\, as it was historically used for acquiring knowledge and social gatherings since it was constructed in the 1800’s. The music is presented by On Cue Sports Bar & Grill\, with genres ranging from 50’s country\, hip hop and r&b\, 20’s jazz\, and classical holiday music. Additionally\, guests can visit On Cue before or after the show to receive discounts. This new experience will allow guests to feel connected to the music and see local artists in a unique setting within the laid-back setting. \nSign up for our email list or follow us on Facebook for updates. \nPurchase tickets online early for $5 – the price increases to $10 one week before the show and at the door. \nRESERVE YOUR SPOT TODAY! \nCash Bar available with complimentary snacks\nGuests are encouraged to bring in carry out\, or visit On Cue before/after for discounts\nGuests are encouraged to bring a blanket as seating is on the floor\, first come\, first served\nIf you have an accessibility need for a chair\, please contact us in advance so we can accommodate your request \n02/05/2025 – Country (1980’s-2000’s)\n02/12/2025 – Classical\n02/19/2025 – 1920’s & 30’s Jazz\n02/26/2025 – Hip Hop/R&B
URL:https://warrenheritagesociety.org/event/historical-melody-5/
LOCATION:The Ivy Lodge\, 101 Chester Street\, Front Royal\, VA\, 22630
ATTACH;FMTTYPE=image/jpeg:https://warrenheritagesociety.org/wp-content/uploads/2024/11/Historical-Melody-Header.jpg
END:VEVENT
BEGIN:VEVENT
DTSTART;TZID=America/New_York:20250122T180000
DTEND;TZID=America/New_York:20250122T200000
DTSTAMP:20260420T094319
CREATED:20241220T200628Z
LAST-MODIFIED:20241220T200628Z
UID:2743-1737568800-1737576000@warrenheritagesociety.org
SUMMARY:Historical Melody
DESCRIPTION:Join the Warren Heritage Society for historical music experience Wednesday nights this winter. Beginning of Early 2025\, the Ivy Lodge will be transformed into a space for music that will take listeners to a period in time for various genres of music. The Ivy Lodge is the perfect setting for these acoustic and intimate music sessions\, as it was historically used for acquiring knowledge and social gatherings since it was constructed in the 1800’s. The music is presented by On Cue Sports Bar & Grill\, with genres ranging from 50’s country\, hip hop and r&b\, 20’s jazz\, and classical holiday music. Additionally\, guests can visit On Cue before or after the show to receive discounts. This new experience will allow guests to feel connected to the music and see local artists in a unique setting within the laid-back setting. \nSign up for our email list or follow us on Facebook for updates. \nPurchase tickets online early for $5 – the price increases to $10 one week before the show and at the door. \nRESERVE YOUR SPOT TODAY! \nCash Bar available with complimentary snacks\nGuests are encouraged to bring in carry out\, or visit On Cue before/after for discounts\nGuests are encouraged to bring a blanket as seating is on the floor\, first come\, first served\nIf you have an accessibility need for a chair\, please contact us in advance so we can accommodate your request \n01/08/2025 – 1970’s Rock\n01/15/2025 – 1950’s Country\n01/22/2025 – Bluegrass/Folk\n01/29/2025 – Pre-1900 music\n02/05/2025 – Country (1980’s-2000’s)\n02/12/2025 – Classical\n02/19/2025 – 1920’s & 30’s Jazz\n02/26/2025 – Hip Hop/R&B
URL:https://warrenheritagesociety.org/event/historical-melody-3/
LOCATION:The Ivy Lodge\, 101 Chester Street\, Front Royal\, VA\, 22630
ATTACH;FMTTYPE=image/jpeg:https://warrenheritagesociety.org/wp-content/uploads/2024/11/Historical-Melody-Header.jpg
END:VEVENT
BEGIN:VEVENT
DTSTART;TZID=America/New_York:20250121T180000
DTEND;TZID=America/New_York:20250121T200000
DTSTAMP:20260420T094319
CREATED:20241227T152909Z
LAST-MODIFIED:20241227T152909Z
UID:2765-1737482400-1737489600@warrenheritagesociety.org
SUMMARY:Handmade: Unakite Jewelry
DESCRIPTION:Handmade: An Artisan Workshop by the Warren Heritage Society \nCreate Jewelry from a Stone Native to Virginia \nThis program allows attendees to make unique jewelry from Unakite. The class will be led by the Warren Heritage Society Board President and local artist\, Teresa Henry\, and will provide supplies to make two (2) items of your choice; a bracelet\, necklace\, or pair of earrings. The event will also cover the history and information regarding unakite in Virginia.\n\nWHS Member Price: $15Non-Member Price: $20\n 
URL:https://warrenheritagesociety.org/event/handmade-unakite-jewelry/
LOCATION:The Ivy Lodge\, 101 Chester Street\, Front Royal\, VA\, 22630
ATTACH;FMTTYPE=image/jpeg:https://warrenheritagesociety.org/wp-content/uploads/2024/12/Handmade-Flyer-Jewelry-Tile.jpg
END:VEVENT
BEGIN:VEVENT
DTSTART;TZID=America/New_York:20250115T180000
DTEND;TZID=America/New_York:20250115T200000
DTSTAMP:20260420T094319
CREATED:20241220T200448Z
LAST-MODIFIED:20241220T201229Z
UID:2741-1736964000-1736971200@warrenheritagesociety.org
SUMMARY:Historical Melody
DESCRIPTION:Join the Warren Heritage Society for historical music experience Wednesday nights this winter. Beginning of Early 2025\, the Ivy Lodge will be transformed into a space for music that will take listeners to a period in time for various genres of music. The Ivy Lodge is the perfect setting for these acoustic and intimate music sessions\, as it was historically used for acquiring knowledge and social gatherings since it was constructed in the 1800’s. The music is presented by On Cue Sports Bar & Grill\, with genres ranging from 50’s country\, hip hop and r&b\, 20’s jazz\, and classical holiday music. Additionally\, guests can visit On Cue before or after the show to receive discounts. This new experience will allow guests to feel connected to the music and see local artists in a unique setting within the laid-back setting. \nSign up for our email list or follow us on Facebook for updates. \nPurchase tickets online early for $5 – the price increases to $10 one week before the show and at the door. \nRESERVE YOUR SPOT TODAY! \nCash Bar available with complimentary snacks\nGuests are encouraged to bring in carry out\, or visit On Cue before/after for discounts\nGuests are encouraged to bring a blanket as seating is on the floor\, first come\, first served\nIf you have an accessibility need for a chair\, please contact us in advance so we can accommodate your request \n01/08/2025 – 1970’s Rock\n01/15/2025 – 1950’s Country\n01/22/2025 – Bluegrass/Folk\n01/29/2025 – Pre-1900 music\n02/05/2025 – Country (1980’s-2000’s)\n02/12/2025 – Classical\n02/19/2025 – 1920’s & 30’s Jazz\n02/26/2025 – Hip Hop/R&B
URL:https://warrenheritagesociety.org/event/historical-melody-2/
LOCATION:The Ivy Lodge\, 101 Chester Street\, Front Royal\, VA\, 22630
ATTACH;FMTTYPE=image/jpeg:https://warrenheritagesociety.org/wp-content/uploads/2024/11/Historical-Melody-Header.jpg
END:VEVENT
BEGIN:VEVENT
DTSTART;TZID=America/New_York:20250108T180000
DTEND;TZID=America/New_York:20250108T200000
DTSTAMP:20260420T094319
CREATED:20241220T200053Z
LAST-MODIFIED:20241220T200053Z
UID:2737-1736359200-1736366400@warrenheritagesociety.org
SUMMARY:Historical Melody
DESCRIPTION:Join the Warren Heritage Society for historical music experience Wednesday nights this winter. Beginning of Early 2025\, the Ivy Lodge will be transformed into a space for music that will take listeners to a period in time for various genres of music. The Ivy Lodge is the perfect setting for these acoustic and intimate music sessions\, as it was historically used for acquiring knowledge and social gatherings since it was constructed in the 1800’s. The music is presented by On Cue Sports Bar & Grill\, with genres ranging from 50’s country\, hip hop and r&b\, 20’s jazz\, and classical holiday music. Additionally\, guests can visit On Cue before or after the show to receive discounts. This new experience will allow guests to feel connected to the music and see local artists in a unique setting within the laid-back setting. \nSign up for our email list or follow us on Facebook for updates. \nPurchase tickets online early for $5 – the price increases to $10 one week before the show and at the door. \nRESERVE YOUR SPOT TODAY! \nCash Bar available with complimentary snacks\nGuests are encouraged to bring in carry out\, or visit On Cue before/after for discounts\nGuests are encouraged to bring a blanket as seating is on the floor\, first come\, first served\nIf you have an accessibility need for a chair\, please contact us in advance so we can accommodate your request \n01/08/2025 – 1970’s Rock\n01/15/2025 – 1950’s Country\n01/22/2025 – Bluegrass/Folk\n01/29/2025 – Pre-1900 music\n02/05/2025 – Country (1980’s-2000’s)\n02/12/2025 – Classical\n02/19/2025 – 1920’s & 30’s Jazz\n02/26/2025 – Hip Hop/R&B
URL:https://warrenheritagesociety.org/event/historical-melody/
LOCATION:The Ivy Lodge\, 101 Chester Street\, Front Royal\, VA\, 22630
ATTACH;FMTTYPE=image/jpeg:https://warrenheritagesociety.org/wp-content/uploads/2024/11/Historical-Melody-Header.jpg
END:VEVENT
BEGIN:VEVENT
DTSTART;TZID=America/New_York:20241219T163000
DTEND;TZID=America/New_York:20241219T180000
DTSTAMP:20260420T094319
CREATED:20241216T183426Z
LAST-MODIFIED:20241216T183756Z
UID:2712-1734625800-1734631200@warrenheritagesociety.org
SUMMARY:December Membership Social
DESCRIPTION:The Warren Heritage Society is hosting their December Membership Social on Thursday\, December 19 from 4:30 PM to 6:00 PM in the Ivy Lodge at 101 Chester Street. This is a great opportunity to socialize with other members and guests.\n\nThe event is open to the public\, though if you are interested in becoming a member of the WHS\, please visit the website to find out more.
URL:https://warrenheritagesociety.org/event/december-membership-social/
LOCATION:The Ivy Lodge\, 101 Chester Street\, Front Royal\, VA\, 22630
ATTACH;FMTTYPE=image/jpeg:https://warrenheritagesociety.org/wp-content/uploads/2024/11/Membership-Social_December-2024-Tile.jpg
END:VEVENT
BEGIN:VEVENT
DTSTART;TZID=America/New_York:20241217T180000
DTEND;TZID=America/New_York:20241217T200000
DTSTAMP:20260420T094319
CREATED:20241216T181727Z
LAST-MODIFIED:20241216T182912Z
UID:2709-1734458400-1734465600@warrenheritagesociety.org
SUMMARY:HANDMADE: AN ARTISAN WORKSHOP BY THE WARREN HERITAGE SOCIETY
DESCRIPTION:Handmade: An Artisan Workshop by the Warren Heritage Society \nA history & lesson of crafting cocktails with The Catamount Lounge \nThis unique opportunity allows attendees to learn the history of cocktail lounges as social centers and mixology as a craft\, all led by the team at The Catamount Lounge. \nFrom the mid-1800s to 1920s the standards of classic mixology were developed. The understanding of how to combine alcoholic and non-alcoholic beverages to create a uniquely satisfying choice will be covered and what you will need to stock your own shelves at home. From the drinks\, the history\, atmosphere\, and of course the wardrobe; you will be sure to learn and enjoy this exploration in cocktails. You may even learn to mix up something special that will make you the envy of any holiday party. \nWhen: Tuesday\, December 17 \nTime: 6:00 PM \nWhere: The Catamount Lounge\, 124 E. Main Street\, Front Royal\, VA 22630 \n  \nAny additional proceeds or donations benefit the Warren Heritage Society
URL:https://warrenheritagesociety.org/event/handmade-an-artisan-workshop-by-the-warren-heritage-society/
LOCATION:The Catamount Lounge\, 124 E. Main Street\, Front Royal\, 22630
ATTACH;FMTTYPE=image/jpeg:https://warrenheritagesociety.org/wp-content/uploads/2024/12/Handmade-Flyer-Cocktails-Tile.jpg
END:VEVENT
END:VCALENDAR