BEGIN:VCALENDAR
VERSION:2.0
PRODID:-//Warren Heritage Society - ECPv6.15.20//NONSGML v1.0//EN
CALSCALE:GREGORIAN
METHOD:PUBLISH
X-WR-CALNAME:Warren Heritage Society
X-ORIGINAL-URL:https://warrenheritagesociety.org
X-WR-CALDESC:Events for Warren Heritage Society
REFRESH-INTERVAL;VALUE=DURATION:PT1H
X-Robots-Tag:noindex
X-PUBLISHED-TTL:PT1H
BEGIN:VTIMEZONE
TZID:America/New_York
BEGIN:DAYLIGHT
TZOFFSETFROM:-0500
TZOFFSETTO:-0400
TZNAME:EDT
DTSTART:20250309T070000
END:DAYLIGHT
BEGIN:STANDARD
TZOFFSETFROM:-0400
TZOFFSETTO:-0500
TZNAME:EST
DTSTART:20251102T060000
END:STANDARD
BEGIN:DAYLIGHT
TZOFFSETFROM:-0500
TZOFFSETTO:-0400
TZNAME:EDT
DTSTART:20260308T070000
END:DAYLIGHT
BEGIN:STANDARD
TZOFFSETFROM:-0400
TZOFFSETTO:-0500
TZNAME:EST
DTSTART:20261101T060000
END:STANDARD
BEGIN:DAYLIGHT
TZOFFSETFROM:-0500
TZOFFSETTO:-0400
TZNAME:EDT
DTSTART:20270314T070000
END:DAYLIGHT
BEGIN:STANDARD
TZOFFSETFROM:-0400
TZOFFSETTO:-0500
TZNAME:EST
DTSTART:20271107T060000
END:STANDARD
END:VTIMEZONE
BEGIN:VEVENT
DTSTART;TZID=America/New_York:20260416T173000
DTEND;TZID=America/New_York:20260416T190000
DTSTAMP:20260419T100338
CREATED:20260401T114054Z
LAST-MODIFIED:20260409T103404Z
UID:3415-1776360600-1776366000@warrenheritagesociety.org
SUMMARY:Third Thursday: History of Wildlife in Virginia
DESCRIPTION:We’ll dive into the incredible world of Virginia’s wildlife—from the creatures that roam the state today to those that lived here thousands of years ago—and explore how these animals have helped shape Virginia’s history and culture. \nMegan Goin – Chief Ranger of Visitor Experience at Shenandoah River State Park\, will be hosting the talk!
URL:https://warrenheritagesociety.org/event/third-thursday-history-of-wildlife-in-virginia/
LOCATION:The Ivy Lodge\, 101 Chester Street\, Front Royal\, VA\, 22630
CATEGORIES:Third Thursday
END:VEVENT
END:VCALENDAR